Workbook
Name Excel_BuiltIn__FilterDatabase_1: #REF!
Name FinalNedelaA: [1]FinalNedela!$A$9:$S$18
Name FinalNedelaB: [1]FinalNedela!$A$38:$S$47
Name FinalNedelaC: [1]FinalNedela!$A$23:$S$32
Name FinalNedelaD: [1]FinalNedela!$A$52:$S$61
Name FinalSobotaA: [1]FinalSobota!$A$9:$S$18
Name FinalSobotaB: [1]FinalSobota!$A$38:$S$47
Name FinalSobotaC: [1]FinalSobota!$A$23:$S$32
Name FinalSobotaD: [1]FinalSobota!$A$52:$S$61

Sheet SO - A
A1: 1. liga LRU Prívlač - Sektor: | I1: A | M1: Sobota
E2: =SUM(E5:E14) -> 97 | H2: =SUM(H5:H14) -> 78 | K2: =SUM(K5:K14) -> 41 | N2: =SUM(N5:N14) -> 23 | Q2: =SUM(Q5:Q14) -> 31 | S2: =SUM(S5:S14) -> 275
A3: Porad. Číslo | B3: Družstvo | C3: Meno pretekára | D3: 1.časť | G3: 2.časť | J3: 3.časť | M3: 4.časť | P3: 5.časť | S3: Súčet | U3: Konečné poradie
D4: štart | E4: body | F4: umiest. | G4: štart | H4: body | I4: umiest. | J4: štart | K4: body | L4: umiest. | M4: štart | N4: body | O4: umiest. | P4: štart | Q4: body | R4: umiest. | S4: umiest | T4: body
A5: 1 | B5: Banská Bystrica A | C5: Vaňo, Matúš | D5: 7 | E5: 5 | F5: 8.5 | G5: 6 | H5: 3 | I5: 9 | J5: 9 | K5: 2 | L5: 9 | M5: 2 | N5: 1 | O5: 9 | P5: 3 | Q5: 1 | R5: 8 | S5: 43.5 | T5: 12 | U5: 10
A6: 2 | B6: Bardejov | C6: Tkáč, Andrej | D6: 2 | E6: 9 | F6: 6 | G6: 9 | H6: 4 | I6: 7 | J6: 7 | K6: 1 | L6: 10 | M6: 3 | N6: 5 | O6: 1.5 | P6: 6 | Q6: 4 | R6: 4.5 | S6: 29 | T6: 23 | U6: 7
A7: 3 | B7: Dubnica nad Váhom | C7: Bača, Peter | D7: 8 | E7: 10 | F7: 5 | G7: 4 | H7: 2 | I7: 10 | J7: 1 | K7: 4 | L7: 4 | M7: 9 | N7: 2 | O7: 5.5 | P7: 5 | Q7: 3 | R7: 6 | S7: 30.5 | T7: 21 | U7: 9
A8: 4 | B8: Kysucké Nové Mesto A | C8: Hollý, Lukáš | D8: 9 | E8: 8 | F8: 7 | G8: 2 | H8: 17 | I8: 2 | J8: 3 | K8: 3 | L8: 7 | M8: 5 | N8: 2 | O8: 5.5 | P8: 9 | Q8: 5 | R8: 3 | S8: 24.5 | T8: 35 | U8: 5
A9: 5 | B9: Levice | C9: Klesniak, Peter | D9: 5 | E9: 12 | F9: 4 | G9: 7 | H9: 8 | I9: 4 | J9: 10 | K9: 4 | L9: 4 | M9: 1 | N9: 5 | O9: 1.5 | P9: 4 | Q9: 1 | R9: 8 | S9: 21.5 | T9: 30 | U9: 2
A10: 6 | B10: Partizánske Prívlacový team | C10: Predná, Soňa | D10: 1 | E10: 13 | F10: 3 | G10: 10 | H10: 4 | I10: 7 | J10: 5 | K10: 3 | L10: 7 | M10: 4 | N10: 2 | O10: 5.5 | P10: 8 | Q10: 6 | R10: 1.5 | S10: 24 | T10: 28 | U10: 4
A11: 7 | B11: Trencín A | C11: Sámela, Jaroslav | D11: 10 | E11: 5 | F11: 8.5 | G11: 1 | H11: 19 | I11: 1 | J11: 4 | K11: 4 | L11: 4 | M11: 6 | N11: 2 | O11: 5.5 | P11: 7 | Q11: 1 | R11: 8 | S11: 27 | T11: 31 | U11: 6
A12: 8 | B12: Trencín B | C12: Ďudák, Branislav | D12: 3 | E12: 15 | F12: 2 | G12: 8 | H12: 4 | I12: 7 | J12: 6 | K12: 11 | L12: 1 | M12: 8 | N12: 0 | O12: 10 | P12: 2 | Q12: 6 | R12: 1.5 | S12: 21.5 | T12: 36 | U12: 1
A13: 9 | B13: Trnava A | C13: Kšiňan, Samuel | D13: 6 | E13: 18 | F13: 1 | G13: 3 | H13: 5 | I13: 5 | J13: 2 | K13: 6 | L13: 2 | M13: 7 | N13: 2 | O13: 5.5 | P13: 10 | Q13: 0 | R13: 10 | S13: 23.5 | T13: 31 | U13: 3
A14: 10 | B14: Vranov nad Toplou A | C14: Hatala, Richard | D14: 4 | E14: 2 | F14: 10 | G14: 5 | H14: 12 | I14: 3 | J14: 8 | K14: 3 | L14: 7 | M14: 10 | N14: 2 | O14: 5.5 | P14: 1 | Q14: 4 | R14: 4.5 | S14: 30 | T14: 23 | U14: 8
D16: =SUM(D5:D15) -> 55 | F16: =SUM(F5:F15) -> 55 | G16: =SUM(G5:G15) -> 55 | I16: =SUM(I5:I15) -> 55 | J16: =SUM(J5:J15) -> 55 | L16: =SUM(L5:L15) -> 55 | M16: =SUM(M5:M15) -> 55 | O16: =SUM(O5:O15) -> 55 | P16: =SUM(P5:P15) -> 55 | R16: =SUM(R5:R15) -> 55 | S16: =SUM(S5:S15) -> 275 | U16: =SUM(U5:U15) -> 55

Sheet SO - B
A1: 1. liga LRU Prívlač - Sektor: | I1: B | M1: Sobota
E2: =SUM(E5:E14) -> 48 | H2: =SUM(H5:H14) -> 19 | K2: =SUM(K5:K14) -> 7 | N2: =SUM(N5:N14) -> 7 | Q2: =SUM(Q5:Q14) -> 16 | S2: =SUM(S5:S14) -> 275
A3: Porad. Číslo | B3: Družstvo | C3: Meno pretekára | D3: 1.časť | G3: 2.časť | J3: 3.časť | M3: 4.časť | P3: 5.časť | S3: Súčet | U3: Konečné poradie
D4: štart | E4: body | F4: umiest. | G4: štart | H4: body | I4: umiest. | J4: štart | K4: body | L4: umiest. | M4: štart | N4: body | O4: umiest. | P4: štart | Q4: body | R4: umiest. | S4: umiest | T4: body
A5: 1 | B5: Banská Bystrica A | C5: Šagát, Andrej | D5: 4 | E5: 1 | F5: 10 | G5: 5 | H5: 3 | I5: 2.5 | J5: 8 | K5: 0 | L5: 8.5 | M5: 10 | N5: 1 | O5: 4 | P5: 1 | Q5: 3 | R5: 2 | S5: 27 | T5: 8 | U5: 4
A6: 2 | B6: Bardejov | C6: Fedor, Ľubomír | D6: 10 | E6: 3 | F6: 7.5 | G6: 1 | H6: 1 | I6: 6.5 | J6: 4 | K6: 1 | L6: 4 | M6: 6 | N6: 1 | O6: 4 | P6: 7 | Q6: 0 | R6: 9 | S6: 31 | T6: 6 | U6: 7.5
A7: 3 | B7: Dubnica nad Váhom | C7: Greňo, Peter | D7: 2 | E7: 6 | F7: 4 | G7: 9 | H7: 3 | I7: 2.5 | J7: 7 | K7: 0 | L7: 8.5 | M7: 3 | N7: 1 | O7: 4 | P7: 6 | Q7: 1 | R7: 5.5 | S7: 24.5 | T7: 11 | U7: 3
A8: 4 | B8: Kysucké Nové Mesto A | C8: Václavík, Juraj | D8: 3 | E8: 7 | F8: 2 | G8: 8 | H8: 1 | I8: 6.5 | J8: 6 | K8: 0 | L8: 8.5 | M8: 8 | N8: 0 | O8: 8.5 | P8: 2 | Q8: 1 | R8: 5.5 | S8: 31 | T8: 9 | U8: 6
A9: 5 | B9: Levice | C9: Augustín, Peter | D9: 6 | E9: 10 | F9: 1 | G9: 3 | H9: 7 | I9: 1 | J9: 2 | K9: 0 | L9: 8.5 | M9: 7 | N9: 0 | O9: 8.5 | P9: 10 | Q9: 7 | R9: 1 | S9: 20 | T9: 24 | U9: 2
A10: 6 | B10: Partizánske Prívlacový team | C10: Predný, Patrik | D10: 7 | E10: 6 | F10: 4 | G10: 6 | H10: 1 | I10: 6.5 | J10: 9 | K10: 1 | L10: 4 | M10: 2 | N10: 2 | O10: 1 | P10: 3 | Q10: 2 | R10: 3 | S10: 18.5 | T10: 12 | U10: 1
A11: 7 | B11: Trencín A | C11: Kšinan, Jakub | D11: 1 | E11: 6 | F11: 4 | G11: 10 | H11: 1 | I11: 6.5 | J11: 5 | K11: 1 | L11: 4 | M11: 4 | N11: 0 | O11: 8.5 | P11: 8 | Q11: 1 | R11: 5.5 | S11: 28.5 | T11: 9 | U11: 5
A12: 8 | B12: Trencín B | C12: Lacko, Tomáš | D12: 9 | E12: 3 | F12: 7.5 | G12: 2 | H12: 1 | I12: 6.5 | J12: 3 | K12: 1 | L12: 4 | M12: 5 | N12: 1 | O12: 4 | P12: 9 | Q12: 0 | R12: 9 | S12: 31 | T12: 6 | U12: 7.5
A13: 9 | B13: Trnava A | C13: Lehocký, Ján | D13: 5 | E13: 3 | F13: 7.5 | G13: 7 | H13: 0 | I13: 10 | J13: 10 | K13: 2 | L13: 1 | M13: 1 | N13: 1 | O13: 4 | P13: 4 | Q13: 0 | R13: 9 | S13: 31.5 | T13: 6 | U13: 9
A14: 10 | B14: Vranov nad Toplou A | C14: Jenčo, Tomáš | D14: 8 | E14: 3 | F14: 7.5 | G14: 4 | H14: 1 | I14: 6.5 | J14: 1 | K14: 1 | L14: 4 | M14: 9 | N14: 0 | O14: 8.5 | P14: 5 | Q14: 1 | R14: 5.5 | S14: 32 | T14: 6 | U14: 10
D16: =SUM(D5:D15) -> 55 | F16: =SUM(F5:F15) -> 55 | G16: =SUM(G5:G15) -> 55 | I16: =SUM(I5:I15) -> 55 | J16: =SUM(J5:J15) -> 55 | L16: =SUM(L5:L15) -> 55 | M16: =SUM(M5:M15) -> 55 | O16: =SUM(O5:O15) -> 55 | P16: =SUM(P5:P15) -> 55 | R16: =SUM(R5:R15) -> 55 | S16: =SUM(S5:S15) -> 275 | U16: =SUM(U5:U15) -> 55

Sheet SO - C
A1: 1. liga LRU Prívlač - Sektor: | I1: C | M1: Sobota
E2: =SUM(E5:E14) -> 80 | H2: =SUM(H5:H14) -> 60 | K2: =SUM(K5:K14) -> 52 | N2: =SUM(N5:N14) -> 32 | Q2: =SUM(Q5:Q14) -> 43 | S2: =SUM(S5:S14) -> 275
A3: Porad. Číslo | B3: Družstvo | C3: Meno pretekára | D3: 1.časť | G3: 2.časť | J3: 3.časť | M3: 4.časť | P3: 5.časť | S3: Súčet | U3: Konečné poradie
D4: štart | E4: body | F4: umiest. | G4: štart | H4: body | I4: umiest. | J4: štart | K4: body | L4: umiest. | M4: štart | N4: body | O4: umiest. | P4: štart | Q4: body | R4: umiest. | S4: umiest | T4: body
A5: 1 | B5: Banská Bystrica A | C5: Berák, Lukáš | D5: 1 | E5: 13 | F5: 2.5 | G5: 10 | H5: 2 | I5: 8.5 | J5: 5 | K5: 2 | L5: 7 | M5: 4 | N5: 4 | O5: 5.5 | P5: 8 | Q5: 6 | R5: 2 | S5: 25.5 | T5: 27 | U5: 5
A6: 2 | B6: Bardejov | C6: Vrábel, Viliam | D6: 3 | E6: 3 | F6: 9 | G6: 8 | H6: 1 | I6: 10 | J6: 6 | K6: 1 | L6: 8.5 | M6: 8 | N6: 0 | O6: 9.5 | P6: 2 | Q6: 4 | R6: 5.5 | S6: 42.5 | T6: 9 | U6: 10
A7: 3 | B7: Dubnica nad Váhom | C7: Smatana, Juraj | D7: 7 | E7: 7 | F7: 6 | G7: 6 | H7: 6 | I7: 4.5 | J7: 9 | K7: 9 | L7: 2 | M7: 2 | N7: 4 | O7: 5.5 | P7: 3 | Q7: 5 | R7: 3.5 | S7: 21.5 | T7: 31 | U7: 3
A8: 4 | B8: Kysucké Nové Mesto A | C8: Hollý, Rastislav | D8: 2 | E8: 8 | F8: 5 | G8: 9 | H8: 3 | I8: 7 | J8: 7 | K8: 0 | L8: 10 | M8: 3 | N8: 1 | O8: 8 | P8: 6 | Q8: 2 | R8: 9 | S8: 39 | T8: 14 | U8: 9
A9: 5 | B9: Levice | C9: Rojtáš, Marek | D9: 10 | E9: 5 | F9: 7.5 | G9: 1 | H9: 9 | I9: 2 | J9: 4 | K9: 8 | L9: 3 | M9: 6 | N9: 5 | O9: 3 | P9: 7 | Q9: 3 | R9: 7.5 | S9: 23 | T9: 30 | U9: 4
A10: 6 | B10: Partizánske Prívlacový team | C10: Augustín, Matej | D10: 8 | E10: 13 | F10: 2.5 | G10: 4 | H10: 18 | I10: 1 | J10: 1 | K10: 19 | L10: 1 | M10: 9 | N10: 5 | O10: 3 | P10: 5 | Q10: 3 | R10: 7.5 | S10: 15 | T10: 58 | U10: 1
A11: 7 | B11: Trencín A | C11: Hrk, Daniel | D11: 5 | E11: 5 | F11: 7.5 | G11: 7 | H11: 2 | I11: 8.5 | J11: 10 | K11: 4 | L11: 5 | M11: 1 | N11: 6 | O11: 1 | P11: 4 | Q11: 4 | R11: 5.5 | S11: 27.5 | T11: 21 | U11: 7
A12: 8 | B12: Trencín B | C12: Forgáč, Matej | D12: 4 | E12: 11 | F12: 4 | G12: 5 | H12: 5 | I12: 6 | J12: 8 | K12: 1 | L12: 8.5 | M12: 10 | N12: 2 | O12: 7 | P12: 1 | Q12: 10 | R12: 1 | S12: 26.5 | T12: 29 | U12: 6
A13: 9 | B13: Trnava A | C13: Ardan, Aleš | D13: 9 | E13: 1 | F13: 10 | G13: 2 | H13: 6 | I13: 4.5 | J13: 3 | K13: 3 | L13: 6 | M13: 5 | N13: 0 | O13: 9.5 | P13: 9 | Q13: 5 | R13: 3.5 | S13: 33.5 | T13: 15 | U13: 8
A14: 10 | B14: Vranov nad Toplou A | C14: Janočko, Pavol | D14: 6 | E14: 14 | F14: 1 | G14: 3 | H14: 8 | I14: 3 | J14: 2 | K14: 5 | L14: 4 | M14: 7 | N14: 5 | O14: 3 | P14: 10 | Q14: 1 | R14: 10 | S14: 21 | T14: 33 | U14: 2
D16: =SUM(D5:D15) -> 55 | F16: =SUM(F5:F15) -> 55 | G16: =SUM(G5:G15) -> 55 | I16: =SUM(I5:I15) -> 55 | J16: =SUM(J5:J15) -> 55 | L16: =SUM(L5:L15) -> 55 | M16: =SUM(M5:M15) -> 55 | O16: =SUM(O5:O15) -> 55 | P16: =SUM(P5:P15) -> 55 | R16: =SUM(R5:R15) -> 55 | S16: =SUM(S5:S15) -> 275 | U16: =SUM(U5:U15) -> 55

Sheet SO - D
A1: 1. liga LRU Prívlač - Sektor: | I1: D | M1: Sobota
E2: =SUM(E5:E14) -> 105 | H2: =SUM(H5:H14) -> 50 | K2: =SUM(K5:K14) -> 25 | N2: =SUM(N5:N14) -> 29 | Q2: =SUM(Q5:Q14) -> 31 | S2: =SUM(S5:S14) -> 275
A3: Porad. Číslo | B3: Družstvo | C3: Meno pretekára | D3: 1.časť | G3: 2.časť | J3: 3.časť | M3: 4.časť | P3: 5.časť | S3: Súčet | U3: Konečné poradie
D4: štart | E4: body | F4: umiest. | G4: štart | H4: body | I4: umiest. | J4: štart | K4: body | L4: umiest. | M4: štart | N4: body | O4: umiest. | P4: štart | Q4: body | R4: umiest. | S4: umiest | T4: body
A5: 1 | B5: Banská Bystrica A | C5: Majer, Milan | D5: 5 | E5: 4 | F5: 10 | G5: 7 | H5: 3 | I5: 10 | J5: 10 | K5: 0 | L5: 10 | M5: 1 | N5: 3 | O5: 4.5 | P5: 4 | Q5: 3 | R5: 6.5 | S5: 41 | T5: 13 | U5: 10
A6: 2 | B6: Bardejov | C6: Tadesse, Jakub | D6: 9 | E6: 12 | F6: 3.5 | G6: 2 | H6: 4 | I6: 7 | J6: 3 | K6: 2 | L6: 6.5 | M6: 5 | N6: 3 | O6: 4.5 | P6: 9 | Q6: 4 | R6: 3 | S6: 24.5 | T6: 25 | U6: 4
A7: 3 | B7: Dubnica nad Váhom | C7: Tešický, Vlastimil | D7: 10 | E7: 12 | F7: 3.5 | G7: 1 | H7: 4 | I7: 7 | J7: 4 | K7: 3 | L7: 4 | M7: 6 | N7: 6 | O7: 2 | P7: 7 | Q7: 1 | R7: 9 | S7: 25.5 | T7: 26 | U7: 5
A8: 4 | B8: Kysucké Nové Mesto A | C8: Franc, Pavol | D8: 8 | E8: 11 | F8: 5.5 | G8: 4 | H8: 6 | I8: 2.5 | J8: 1 | K8: 3 | L8: 4 | M8: 9 | N8: 1 | O8: 8.5 | P8: 5 | Q8: 3 | R8: 6.5 | S8: 27 | T8: 24 | U8: 7
A9: 5 | B9: Levice | C9: Novotný, Róbert ml. | D9: 1 | E9: 19 | F9: 1 | G9: 10 | H9: 4 | I9: 7 | J9: 5 | K9: 5 | L9: 1.5 | M9: 4 | N9: 1 | O9: 8.5 | P9: 8 | Q9: 6 | R9: 1 | S9: 19 | T9: 35 | U9: 1
A10: 6 | B10: Partizánske Prívlacový team | C10: Augustín, Miroslav | D10: 4 | E10: 16 | F10: 2 | G10: 5 | H10: 5 | I10: 4 | J10: 8 | K10: 1 | L10: 8.5 | M10: 10 | N10: 7 | O10: 1 | P10: 1 | Q10: 3 | R10: 6.5 | S10: 22 | T10: 32 | U10: 2
A11: 7 | B11: Trencín A | C11: Košík, Vlastimil | D11: 6 | E11: 6 | F11: 8.5 | G11: 3 | H11: 10 | I11: 1 | J11: 2 | K11: 5 | L11: 1.5 | M11: 7 | N11: 1 | O11: 8.5 | P11: 10 | Q11: 4 | R11: 3 | S11: 22.5 | T11: 26 | U11: 3
A12: 8 | B12: Trencín B | C12: Hirjak, Peter | D12: 7 | E12: 6 | F12: 8.5 | G12: 6 | H12: 6 | I12: 2.5 | J12: 9 | K12: 2 | L12: 6.5 | M12: 2 | N12: 1 | O12: 8.5 | P12: 3 | Q12: 0 | R12: 10 | S12: 36 | T12: 15 | U12: 9
A13: 9 | B13: Trnava A | C13: Lencses, Patrik | D13: 2 | E13: 8 | F13: 7 | G13: 9 | H13: 4 | I13: 7 | J13: 7 | K13: 3 | L13: 4 | M13: 3 | N13: 3 | O13: 4.5 | P13: 6 | Q13: 4 | R13: 3 | S13: 25.5 | T13: 22 | U13: 6
A14: 10 | B14: Vranov nad Toplou A | C14: Mihók, Marián | D14: 3 | E14: 11 | F14: 5.5 | G14: 8 | H14: 4 | I14: 7 | J14: 6 | K14: 1 | L14: 8.5 | M14: 8 | N14: 3 | O14: 4.5 | P14: 2 | Q14: 3 | R14: 6.5 | S14: 32 | T14: 22 | U14: 8
D16: =SUM(D5:D15) -> 55 | F16: =SUM(F5:F15) -> 55 | G16: =SUM(G5:G15) -> 55 | I16: =SUM(I5:I15) -> 55 | J16: =SUM(J5:J15) -> 55 | L16: =SUM(L5:L15) -> 55 | M16: =SUM(M5:M15) -> 55 | O16: =SUM(O5:O15) -> 55 | P16: =SUM(P5:P15) -> 55 | R16: =SUM(R5:R15) -> 55 | S16: =SUM(S5:S15) -> 275 | U16: =SUM(U5:U15) -> 55

Sheet SO spolu
B1: 1. liga LRU Prívlač - Sobota
A3: Porad. číslo | B3: Družstvo | C3: A | F3: B | I3: C | L3: D | O3: Súčet | Q3: Konečné poradie
C4: umiest | D4: body | E4: por | F4: umiest | G4: body | H4: por | I4: umiest | J4: body | K4: por | L4: umiest | M4: body | N4: por | O4: body | P4: por.
A5: 1 | B5: Banská Bystrica A | C5: ='SO - A'!S5 -> 43.5 | D5: ='SO - A'!T5 -> 12 | E5: ='SO - A'!U5 -> 10 | F5: ='SO - B'!S5 -> 27 | G5: ='SO - B'!T5 -> 8 | H5: ='SO - B'!U5 -> 4 | I5: ='SO - C'!S5 -> 25.5 | J5: ='SO - C'!T5 -> 27 | K5: ='SO - C'!U5 -> 5 | L5: ='SO - D'!S5 -> 41 | M5: ='SO - D'!T5 -> 13 | N5: ='SO - D'!U5 -> 10 | O5: =D5+G5+J5+M5 -> 60 | P5: =E5+H5+K5+N5 -> 29 | Q5: 10
A6: 2 | B6: Bardejov | C6: ='SO - A'!S6 -> 29 | D6: ='SO - A'!T6 -> 23 | E6: ='SO - A'!U6 -> 7 | F6: ='SO - B'!S6 -> 31 | G6: ='SO - B'!T6 -> 6 | H6: ='SO - B'!U6 -> 7.5 | I6: ='SO - C'!S6 -> 42.5 | J6: ='SO - C'!T6 -> 9 | K6: ='SO - C'!U6 -> 10 | L6: ='SO - D'!S6 -> 24.5 | M6: ='SO - D'!T6 -> 25 | N6: ='SO - D'!U6 -> 4 | O6: =D6+G6+J6+M6 -> 63 | P6: =E6+H6+K6+N6 -> 28.5 | Q6: 9
A7: 3 | B7: Dubnica nad Váhom | C7: ='SO - A'!S7 -> 30.5 | D7: ='SO - A'!T7 -> 21 | E7: ='SO - A'!U7 -> 9 | F7: ='SO - B'!S7 -> 24.5 | G7: ='SO - B'!T7 -> 11 | H7: ='SO - B'!U7 -> 3 | I7: ='SO - C'!S7 -> 21.5 | J7: ='SO - C'!T7 -> 31 | K7: ='SO - C'!U7 -> 3 | L7: ='SO - D'!S7 -> 25.5 | M7: ='SO - D'!T7 -> 26 | N7: ='SO - D'!U7 -> 5 | O7: =D7+G7+J7+M7 -> 89 | P7: =E7+H7+K7+N7 -> 20 | Q7: 3
A8: 4 | B8: Kysucké Nové Mesto A | C8: ='SO - A'!S8 -> 24.5 | D8: ='SO - A'!T8 -> 35 | E8: ='SO - A'!U8 -> 5 | F8: ='SO - B'!S8 -> 31 | G8: ='SO - B'!T8 -> 9 | H8: ='SO - B'!U8 -> 6 | I8: ='SO - C'!S8 -> 39 | J8: ='SO - C'!T8 -> 14 | K8: ='SO - C'!U8 -> 9 | L8: ='SO - D'!S8 -> 27 | M8: ='SO - D'!T8 -> 24 | N8: ='SO - D'!U8 -> 7 | O8: =D8+G8+J8+M8 -> 82 | P8: =E8+H8+K8+N8 -> 27 | Q8: 7
A9: 5 | B9: Levice | C9: ='SO - A'!S9 -> 21.5 | D9: ='SO - A'!T9 -> 30 | E9: ='SO - A'!U9 -> 2 | F9: ='SO - B'!S9 -> 20 | G9: ='SO - B'!T9 -> 24 | H9: ='SO - B'!U9 -> 2 | I9: ='SO - C'!S9 -> 23 | J9: ='SO - C'!T9 -> 30 | K9: ='SO - C'!U9 -> 4 | L9: ='SO - D'!S9 -> 19 | M9: ='SO - D'!T9 -> 35 | N9: ='SO - D'!U9 -> 1 | O9: =D9+G9+J9+M9 -> 119 | P9: =E9+H9+K9+N9 -> 9 | Q9: 2
A10: 6 | B10: Partizánske Prívlacový team | C10: ='SO - A'!S10 -> 24 | D10: ='SO - A'!T10 -> 28 | E10: ='SO - A'!U10 -> 4 | F10: ='SO - B'!S10 -> 18.5 | G10: ='SO - B'!T10 -> 12 | H10: ='SO - B'!U10 -> 1 | I10: ='SO - C'!S10 -> 15 | J10: ='SO - C'!T10 -> 58 | K10: ='SO - C'!U10 -> 1 | L10: ='SO - D'!S10 -> 22 | M10: ='SO - D'!T10 -> 32 | N10: ='SO - D'!U10 -> 2 | O10: =D10+G10+J10+M10 -> 130 | P10: =E10+H10+K10+N10 -> 8 | Q10: 1
A11: 7 | B11: Trencín A | C11: ='SO - A'!S11 -> 27 | D11: ='SO - A'!T11 -> 31 | E11: ='SO - A'!U11 -> 6 | F11: ='SO - B'!S11 -> 28.5 | G11: ='SO - B'!T11 -> 9 | H11: ='SO - B'!U11 -> 5 | I11: ='SO - C'!S11 -> 27.5 | J11: ='SO - C'!T11 -> 21 | K11: ='SO - C'!U11 -> 7 | L11: ='SO - D'!S11 -> 22.5 | M11: ='SO - D'!T11 -> 26 | N11: ='SO - D'!U11 -> 3 | O11: =D11+G11+J11+M11 -> 87 | P11: =E11+H11+K11+N11 -> 21 | Q11: 4
A12: 8 | B12: Trencín B | C12: ='SO - A'!S12 -> 21.5 | D12: ='SO - A'!T12 -> 36 | E12: ='SO - A'!U12 -> 1 | F12: ='SO - B'!S12 -> 31 | G12: ='SO - B'!T12 -> 6 | H12: ='SO - B'!U12 -> 7.5 | I12: ='SO - C'!S12 -> 26.5 | J12: ='SO - C'!T12 -> 29 | K12: ='SO - C'!U12 -> 6 | L12: ='SO - D'!S12 -> 36 | M12: ='SO - D'!T12 -> 15 | N12: ='SO - D'!U12 -> 9 | O12: =D12+G12+J12+M12 -> 86 | P12: =E12+H12+K12+N12 -> 23.5 | Q12: 5
A13: 9 | B13: Trnava A | C13: ='SO - A'!S13 -> 23.5 | D13: ='SO - A'!T13 -> 31 | E13: ='SO - A'!U13 -> 3 | F13: ='SO - B'!S13 -> 31.5 | G13: ='SO - B'!T13 -> 6 | H13: ='SO - B'!U13 -> 9 | I13: ='SO - C'!S13 -> 33.5 | J13: ='SO - C'!T13 -> 15 | K13: ='SO - C'!U13 -> 8 | L13: ='SO - D'!S13 -> 25.5 | M13: ='SO - D'!T13 -> 22 | N13: ='SO - D'!U13 -> 6 | O13: =D13+G13+J13+M13 -> 74 | P13: =E13+H13+K13+N13 -> 26 | Q13: 6
A14: 10 | B14: Vranov nad Toplou A | C14: ='SO - A'!S14 -> 30 | D14: ='SO - A'!T14 -> 23 | E14: ='SO - A'!U14 -> 8 | F14: ='SO - B'!S14 -> 32 | G14: ='SO - B'!T14 -> 6 | H14: ='SO - B'!U14 -> 10 | I14: ='SO - C'!S14 -> 21 | J14: ='SO - C'!T14 -> 33 | K14: ='SO - C'!U14 -> 2 | L14: ='SO - D'!S14 -> 32 | M14: ='SO - D'!T14 -> 22 | N14: ='SO - D'!U14 -> 8 | O14: =D14+G14+J14+M14 -> 84 | P14: =E14+H14+K14+N14 -> 28 | Q14: 8
C16: =SUM(C5:C14) -> 275 | D16: =SUM(D5:D14) -> 270 | E16: =SUM(E5:E14) -> 55 | F16: =SUM(F5:F14) -> 275 | G16: =SUM(G5:G14) -> 97 | H16: =SUM(H5:H14) -> 55 | I16: =SUM(I5:I14) -> 275 | J16: =SUM(J5:J14) -> 267 | ... Q16: =SUM(Q5:Q14) -> 55

Sheet NE - A
A1: 1. liga LRU Prívlač - Sektor: | I1: A | M1: Nedeľa
A3: Porad. Číslo | B3: Družstvo | C3: Meno pretekára | D3: 1.časť | G3: 2.časť | J3: 3.časť | M3: 4.časť | P3: 5.časť | S3: Súčet | U3: Konečné poradie
D4: štart | E4: body | F4: umiest. | G4: štart | H4: body | I4: umiest. | J4: štart | K4: body | L4: umiest. | M4: štart | N4: body | O4: umiest. | P4: štart | Q4: body | R4: umiest. | S4: umiest | T4: body
A5: 1 | B5: Banská Bystrica A | C5: Berák, Lukáš | D5: 4 | E5: 4 | F5: 5 | G5: 5 | H5: 0 | I5: 9 | J5: 8 | K5: 0 | L5: 9.5 | M5: 10 | N5: 0 | O5: 9 | P5: 1 | Q5: 1 | R5: 6.5 | S5: 39 | T5: 5 | U5: 10
A6: 2 | B6: Bardejov | C6: Vrábel, Viliam | D6: 10 | E6: 1 | F6: 9.5 | G6: 1 | H6: 4 | I6: 4.5 | J6: 4 | K6: 3 | L6: 3 | M6: 6 | N6: 1 | O6: 6.5 | P6: 7 | Q6: 2 | R6: 2.5 | S6: 26 | T6: 11 | U6: 5
A7: 3 | B7: Dubnica nad Váhom | C7: Tešický, Vlastimil | D7: 6 | E7: 5 | F7: 3 | G7: 3 | H7: 0 | I7: 9 | J7: 2 | K7: 2 | L7: 6 | M7: 7 | N7: 0 | O7: 9 | P7: 10 | Q7: 1 | R7: 6.5 | S7: 33.5 | T7: 8 | U7: 8
A8: 4 | B8: Kysucké Nové Mesto A | C8: Franc, Pavol | D8: 8 | E8: 1 | F8: 9.5 | G8: 4 | H8: 5 | I8: 3 | J8: 1 | K8: 4 | L8: 1 | M8: 9 | N8: 1 | O8: 6.5 | P8: 5 | Q8: 0 | R8: 10 | S8: 30 | T8: 11 | U8: 6
A9: 5 | B9: Levice | C9: Novotný, Róbert ml. | D9: 9 | E9: 5 | F9: 3 | G9: 2 | H9: 6 | I9: 1.5 | J9: 3 | K9: 0 | L9: 9.5 | M9: 5 | N9: 3 | O9: 4.5 | P9: 9 | Q9: 3 | R9: 1 | S9: 19.5 | T9: 17 | U9: 2
A10: 6 | B10: Partizánske Prívlacový team | C10: Augustín, Matej | D10: 7 | E10: 10 | F10: 1 | G10: 6 | H10: 3 | I10: 6 | J10: 9 | K10: 3 | L10: 3 | M10: 2 | N10: 4 | O10: 2.5 | P10: 3 | Q10: 2 | R10: 2.5 | S10: 15 | T10: 22 | U10: 1
A11: 7 | B11: Trencín A | C11: Hrk, Daniel | D11: 3 | E11: 5 | F11: 3 | G11: 8 | H11: 2 | I11: 7 | J11: 6 | K11: 2 | L11: 6 | M11: 8 | N11: 0 | O11: 9 | P11: 2 | Q11: 1 | R11: 6.5 | S11: 31.5 | T11: 10 | U11: 7
A12: 8 | B12: Trencín B | C12: Forgáč, Matej | D12: 1 | E12: 2 | F12: 8 | G12: 10 | H12: 4 | I12: 4.5 | J12: 5 | K12: 3 | L12: 3 | M12: 4 | N12: 4 | O12: 2.5 | P12: 8 | Q12: 1 | R12: 6.5 | S12: 24.5 | T12: 14 | U12: 4
A13: 9 | B13: Trnava A | C13: Ardan, Aleš | D13: 5 | E13: 3 | F13: 6.5 | G13: 7 | H13: 6 | I13: 1.5 | J13: 10 | K13: 2 | L13: 6 | M13: 1 | N13: 6 | O13: 1 | P13: 4 | Q13: 1 | R13: 6.5 | S13: 21.5 | T13: 18 | U13: 3
A14: 10 | B14: Vranov nad Toplou A | C14: Janočko, Pavol | D14: 2 | E14: 3 | F14: 6.5 | G14: 9 | H14: 0 | I14: 9 | J14: 7 | K14: 1 | L14: 8 | M14: 3 | N14: 3 | O14: 4.5 | P14: 6 | Q14: 1 | R14: 6.5 | S14: 34.5 | T14: 8 | U14: 9
D16: =SUM(D5:D15) -> 55 | F16: =SUM(F5:F15) -> 55 | G16: =SUM(G5:G15) -> 55 | I16: =SUM(I5:I15) -> 55 | J16: =SUM(J5:J15) -> 55 | L16: =SUM(L5:L15) -> 55 | M16: =SUM(M5:M15) -> 55 | O16: =SUM(O5:O15) -> 55 | P16: =SUM(P5:P15) -> 55 | R16: =SUM(R5:R15) -> 55 | S16: =SUM(S5:S15) -> 275 | U16: =SUM(U5:U15) -> 55

Sheet NE - B
A1: 1. liga LRU Prívlač - Sektor: | I1: B | M1: Nedeľa
A3: Porad. Číslo | B3: Družstvo | C3: Meno pretekára | D3: 1.časť | G3: 2.časť | J3: 3.časť | M3: 4.časť | P3: 5.časť | S3: Súčet | U3: Konečné poradie
D4: štart | E4: body | F4: umiest. | G4: štart | H4: body | I4: umiest. | J4: štart | K4: body | L4: umiest. | M4: štart | N4: body | O4: umiest. | P4: štart | Q4: body | R4: umiest. | S4: umiest | T4: body
A5: 1 | B5: Banská Bystrica A | C5: Majer, Milan | D5: 2 | E5: 2 | F5: 2.5 | G5: 9 | H5: 0 | I5: 8.5 | J5: 7 | K5: 0 | L5: 7 | M5: 3 | N5: 0 | O5: 8 | P5: 6 | Q5: 1 | R5: 3.5 | S5: 29.5 | T5: 3 | U5: 6.5
A6: 2 | B6: Bardejov | C6: Tadesse, Jakub | D6: 3 | E6: 2 | F6: 2.5 | G6: 8 | H6: 0 | I6: 8.5 | J6: 6 | K6: 0 | L6: 7 | M6: 8 | N6: 1 | O6: 3.5 | P6: 2 | Q6: 0 | R6: 8 | S6: 29.5 | T6: 3 | U6: 6.5
A7: 3 | B7: Dubnica nad Váhom | C7: Smatana, Juraj | D7: 10 | E7: 1 | F7: 5 | G7: 1 | H7: 2 | I7: 2.5 | J7: 4 | K7: 3 | L7: 1 | M7: 6 | N7: 0 | O7: 8 | P7: 7 | Q7: 0 | R7: 8 | S7: 24.5 | T7: 6 | U7: 3
A8: 4 | B8: Kysucké Nové Mesto A | C8: Hollý, Rastislav | D8: 4 | E8: 0 | F8: 8 | G8: 5 | H8: 2 | I8: 2.5 | J8: 8 | K8: 0 | L8: 7 | M8: 10 | N8: 1 | O8: 3.5 | P8: 1 | Q8: 1 | R8: 3.5 | S8: 24.5 | T8: 4 | U8: 4
A9: 5 | B9: Levice | C9: Rojtáš, Marek | D9: 8 | E9: 2 | F9: 2.5 | G9: 4 | H9: 3 | I9: 1 | J9: 1 | K9: 0 | L9: 7 | M9: 9 | N9: 2 | O9: 1 | P9: 5 | Q9: 0 | R9: 8 | S9: 19.5 | T9: 7 | U9: 2
A10: 6 | B10: Partizánske Prívlacový team | C10: Augustín, Miroslav | D10: 1 | E10: 0 | F10: 8 | G10: 10 | H10: 0 | I10: 8.5 | J10: 5 | K10: 0 | L10: 7 | M10: 4 | N10: 0 | O10: 8 | P10: 8 | Q10: 0 | R10: 8 | S10: 39.5 | T10: 0 | U10: 10
A11: 7 | B11: Trencín A | C11: Košík, Vlastimil | D11: 7 | E11: 0 | F11: 8 | G11: 6 | H11: 1 | I11: 5 | J11: 9 | K11: 0 | L11: 7 | M11: 2 | N11: 1 | O11: 3.5 | P11: 3 | Q11: 1 | R11: 3.5 | S11: 27 | T11: 3 | U11: 5
A12: 8 | B12: Trencín B | C12: Hirjak, Peter | D12: 5 | E12: 0 | F12: 8 | G12: 7 | H12: 1 | I12: 5 | J12: 10 | K12: 1 | L12: 2.5 | M12: 1 | N12: 0 | O12: 8 | P12: 4 | Q12: 0 | R12: 8 | S12: 31.5 | T12: 2 | U12: 9
A13: 9 | B13: Trnava A | C13: Lencses, Patrik | D13: 9 | E13: 2 | F13: 2.5 | G13: 2 | H13: 1 | I13: 5 | J13: 3 | K13: 1 | L13: 2.5 | M13: 5 | N13: 0 | O13: 8 | P13: 9 | Q13: 2 | R13: 1 | S13: 19 | T13: 6 | U13: 1
A14: 10 | B14: Vranov nad Toplou A | C14: Mihók, Marián | D14: 6 | E14: 0 | F14: 8 | G14: 3 | H14: 0 | I14: 8.5 | J14: 2 | K14: 0 | L14: 7 | M14: 7 | N14: 1 | O14: 3.5 | P14: 10 | Q14: 1 | R14: 3.5 | S14: 30.5 | T14: 2 | U14: 8
D16: =SUM(D5:D15) -> 55 | F16: =SUM(F5:F15) -> 55 | G16: =SUM(G5:G15) -> 55 | I16: =SUM(I5:I15) -> 55 | J16: =SUM(J5:J15) -> 55 | L16: =SUM(L5:L15) -> 55 | M16: =SUM(M5:M15) -> 55 | O16: =SUM(O5:O15) -> 55 | P16: =SUM(P5:P15) -> 55 | R16: =SUM(R5:R15) -> 55 | S16: =SUM(S5:S15) -> 275 | U16: =SUM(U5:U15) -> 55

Sheet NE - C
A1: 1. liga LRU Prívlač - Sektor: | I1: C | M1: Nedeľa
A3: Porad. Číslo | B3: Družstvo | C3: Meno pretekára | D3: 1.časť | G3: 2.časť | J3: 3.časť | M3: 4.časť | P3: 5.časť | S3: Súčet | U3: Konečné poradie
D4: štart | E4: body | F4: umiest. | G4: štart | H4: body | I4: umiest. | J4: štart | K4: body | L4: umiest. | M4: štart | N4: body | O4: umiest. | P4: štart | Q4: body | R4: umiest. | S4: umiest | T4: body
A5: 1 | B5: Banská Bystrica A | C5: Vaňo, Matúš | D5: 7 | E5: 0 | F5: 9.5 | G5: 6 | H5: 2 | I5: 7 | J5: 9 | K5: 0 | L5: 8.5 | M5: 2 | N5: 3 | O5: 1.5 | P5: 3 | Q5: 2 | R5: 6.5 | S5: 33 | T5: 7 | U5: 9
A6: 2 | B6: Bardejov | C6: Fedor, Ľubomír | D6: 4 | E6: 2 | F6: 8 | G6: 5 | H6: 2 | I6: 7 | J6: 8 | K6: 2 | L6: 4.5 | M6: 10 | N6: 0 | O6: 10 | P6: 1 | Q6: 3 | R6: 3 | S6: 32.5 | T6: 9 | U6: 8
A7: 3 | B7: Dubnica nad Váhom | C7: Greňo, Peter | D7: 1 | E7: 0 | F7: 9.5 | G7: 10 | H7: 1 | I7: 9.5 | J7: 5 | K7: 2 | L7: 4.5 | M7: 4 | N7: 2 | O7: 3.5 | P7: 8 | Q7: 0 | R7: 10 | S7: 37 | T7: 5 | U7: 10
A8: 4 | B8: Kysucké Nové Mesto A | C8: Václavík, Juraj | D8: 10 | E8: 3 | F8: 6 | G8: 1 | H8: 3 | I8: 5 | J8: 4 | K8: 0 | L8: 8.5 | M8: 6 | N8: 3 | O8: 1.5 | P8: 7 | Q8: 3 | R8: 3 | S8: 24 | T8: 12 | U8: 3
A9: 5 | B9: Levice | C9: Augustín, Peter | D9: 3 | E9: 8 | F9: 1.5 | G9: 8 | H9: 4 | I9: 3 | J9: 6 | K9: 1 | L9: 6 | M9: 8 | N9: 1 | O9: 7 | P9: 2 | Q9: 3 | R9: 3 | S9: 20.5 | T9: 17 | U9: 2
A10: 6 | B10: Partizánske Prívlacový team | C10: Predný, Patrik | D10: 6 | E10: 6 | F10: 3 | G10: 3 | H10: 2 | I10: 7 | J10: 2 | K10: 4 | L10: 1 | M10: 7 | N10: 1 | O10: 7 | P10: 10 | Q10: 1 | R10: 9 | S10: 27 | T10: 14 | U10: 5
A11: 7 | B11: Trencín A | C11: Sámela, Jaroslav | D11: 9 | E11: 8 | F11: 1.5 | G11: 2 | H11: 7 | I11: 1 | J11: 3 | K11: 3 | L11: 2.5 | M11: 5 | N11: 1 | O11: 7 | P11: 9 | Q11: 2 | R11: 6.5 | S11: 18.5 | T11: 21 | U11: 1
A12: 8 | B12: Trencín B | C12: Lacko, Tomáš | D12: 2 | E12: 4 | F12: 4 | G12: 9 | H12: 1 | I12: 9.5 | J12: 7 | K12: 3 | L12: 2.5 | M12: 3 | N12: 1 | O12: 7 | P12: 6 | Q12: 2 | R12: 6.5 | S12: 29.5 | T12: 11 | U12: 7
A13: 9 | B13: Trnava A | C13: Kšiňan, Samuel | D13: 8 | E13: 3 | F13: 6 | G13: 4 | H13: 4 | I13: 3 | J13: 1 | K13: 0 | L13: 8.5 | M13: 9 | N13: 1 | O13: 7 | P13: 5 | Q13: 4 | R13: 1 | S13: 25.5 | T13: 12 | U13: 4
A14: 10 | B14: Vranov nad Toplou A | C14: Jenčo, Tomáš | D14: 5 | E14: 3 | F14: 6 | G14: 7 | H14: 4 | I14: 3 | J14: 10 | K14: 0 | L14: 8.5 | M14: 1 | N14: 2 | O14: 3.5 | P14: 4 | Q14: 2 | R14: 6.5 | S14: 27.5 | T14: 11 | U14: 6
D16: =SUM(D5:D15) -> 55 | F16: =SUM(F5:F15) -> 55 | G16: =SUM(G5:G15) -> 55 | I16: =SUM(I5:I15) -> 55 | J16: =SUM(J5:J15) -> 55 | L16: =SUM(L5:L15) -> 55 | M16: =SUM(M5:M15) -> 55 | O16: =SUM(O5:O15) -> 55 | P16: =SUM(P5:P15) -> 55 | R16: =SUM(R5:R15) -> 55 | S16: =SUM(S5:S15) -> 275 | U16: =SUM(U5:U15) -> 55

Sheet NE - D
A1: 1. liga LRU Prívlač - Sektor: | I1: D | M1: Nedeľa
A3: Porad. Číslo | B3: Družstvo | C3: Meno pretekára | D3: 1.časť | G3: 2.časť | J3: 3.časť | M3: 4.časť | P3: 5.časť | S3: Súčet | U3: Konečné poradie
D4: štart | E4: body | F4: umiest. | G4: štart | H4: body | I4: umiest. | J4: štart | K4: body | L4: umiest. | M4: štart | N4: body | O4: umiest. | P4: štart | Q4: body | R4: umiest. | S4: umiest | T4: body
A5: 1 | B5: Banská Bystrica A | C5: Šagát, Andrej | D5: 9 | E5: 3 | F5: 5.5 | G5: 2 | H5: 5 | I5: 2 | J5: 3 | K5: 2 | L5: 3.5 | M5: 5 | N5: 2 | O5: 5.5 | P5: 9 | Q5: 0 | R5: 7 | S5: 23.5 | T5: 12 | U5: 5
A6: 2 | B6: Bardejov | C6: Tkáč, Andrej | D6: 5 | E6: 1 | F6: 9.5 | G6: 7 | H6: 4 | I6: 4 | J6: 10 | K6: 1 | L6: 7.5 | M6: 1 | N6: 1 | O6: 8.5 | P6: 4 | Q6: 1 | R6: 2.5 | S6: 32 | T6: 8 | U6: 7
A7: 3 | B7: Dubnica nad Váhom | C7: Bača, Peter | D7: 7 | E7: 2 | F7: 7.5 | G7: 6 | H7: 0 | I7: 10 | J7: 9 | K7: 1 | L7: 7.5 | M7: 2 | N7: 5 | O7: 1 | P7: 3 | Q7: 0 | R7: 7 | S7: 33 | T7: 8 | U7: 8
A8: 4 | B8: Kysucké Nové Mesto A | C8: Hollý, Lukáš | D8: 6 | E8: 4 | F8: 3.5 | G8: 3 | H8: 3 | I8: 6.5 | J8: 2 | K8: 2 | L8: 3.5 | M8: 7 | N8: 4 | O8: 2 | P8: 10 | Q8: 0 | R8: 7 | S8: 22.5 | T8: 13 | U8: 3
A9: 5 | B9: Levice | C9: Hostinský, Tomáš | D9: 3 | E9: 5 | F9: 2 | G9: 8 | H9: 3 | I9: 6.5 | J9: 6 | K9: 2 | L9: 3.5 | M9: 8 | N9: 2 | O9: 5.5 | P9: 2 | Q9: 1 | R9: 2.5 | S9: 20 | T9: 13 | U9: 1
A10: 6 | B10: Partizánske Prívlacový team | C10: Predná, Soňa | D10: 2 | E10: 4 | F10: 3.5 | G10: 9 | H10: 3 | I10: 6.5 | J10: 7 | K10: 0 | L10: 10 | M10: 3 | N10: 1 | O10: 8.5 | P10: 6 | Q10: 0 | R10: 7 | S10: 35.5 | T10: 8 | U10: 9
A11: 7 | B11: Trencín A | C11: Kšinan, Jakub | D11: 8 | E11: 1 | F11: 9.5 | G11: 4 | H11: 3 | I11: 6.5 | J11: 1 | K11: 2 | L11: 3.5 | M11: 9 | N11: 0 | O11: 10 | P11: 5 | Q11: 0 | R11: 7 | S11: 36.5 | T11: 6 | U11: 10
A12: 8 | B12: Trencín B | C12: Ďudák, Branislav | D12: 1 | E12: 6 | F12: 1 | G12: 10 | H12: 5 | I12: 2 | J12: 5 | K12: 1 | L12: 7.5 | M12: 4 | N12: 2 | O12: 5.5 | P12: 8 | Q12: 0 | R12: 7 | S12: 23 | T12: 14 | U12: 4
A13: 9 | B13: Trnava A | C13: Lehocký, Ján | D13: 10 | E13: 3 | F13: 5.5 | G13: 1 | H13: 2 | I13: 9 | J13: 4 | K13: 1 | L13: 7.5 | M13: 6 | N13: 2 | O13: 5.5 | P13: 7 | Q13: 2 | R13: 1 | S13: 28.5 | T13: 10 | U13: 6
A14: 10 | B14: Vranov nad Toplou A | C14: Hatala, Richard | D14: 4 | E14: 2 | F14: 7.5 | G14: 5 | H14: 5 | I14: 2 | J14: 8 | K14: 3 | L14: 1 | M14: 10 | N14: 3 | O14: 3 | P14: 1 | Q14: 0 | R14: 7 | S14: 20.5 | T14: 13 | U14: 2
D16: =SUM(D5:D15) -> 55 | F16: =SUM(F5:F15) -> 55 | G16: =SUM(G5:G15) -> 55 | I16: =SUM(I5:I15) -> 55 | J16: =SUM(J5:J15) -> 55 | L16: =SUM(L5:L15) -> 55 | M16: =SUM(M5:M15) -> 55 | O16: =SUM(O5:O15) -> 55 | P16: =SUM(P5:P15) -> 55 | R16: =SUM(R5:R15) -> 55 | S16: =SUM(S5:S15) -> 275 | U16: =SUM(U5:U15) -> 55

Sheet NE SPOLU
B1: 1. liga LRU Prívlač - Sobota
A3: Porad. číslo | B3: Družstvo | C3: A | F3: B | I3: C | L3: D | O3: Súčet | Q3: Konečné poradie
C4: umiest | D4: body | E4: por | F4: umiest | G4: body | H4: por | I4: umiest | J4: body | K4: por | L4: umiest | M4: body | N4: por | O4: body | P4: por.
A5: 1 | B5: Banská Bystrica A | C5: ='NE - A'!S5 -> 39 | D5: ='NE - A'!T5 -> 5 | E5: ='NE - A'!U5 -> 10 | F5: ='NE - B'!S5 -> 29.5 | G5: ='NE - B'!T5 -> 3 | H5: ='NE - B'!U5 -> 6.5 | I5: ='NE - C'!S5 -> 33 | J5: ='NE - C'!T5 -> 7 | K5: ='NE - C'!U5 -> 9 | L5: ='NE - D'!S5 -> 23.5 | M5: ='NE - D'!T5 -> 12 | N5: ='NE - D'!U5 -> 5 | O5: =D5+G5+J5+M5 -> 27 | P5: =E5+H5+K5+N5 -> 30.5 | Q5: 10
A6: 2 | B6: Bardejov | C6: ='NE - A'!S6 -> 26 | D6: ='NE - A'!T6 -> 11 | E6: ='NE - A'!U6 -> 5 | F6: ='NE - B'!S6 -> 29.5 | G6: ='NE - B'!T6 -> 3 | H6: ='NE - B'!U6 -> 6.5 | I6: ='NE - C'!S6 -> 32.5 | J6: ='NE - C'!T6 -> 9 | K6: ='NE - C'!U6 -> 8 | L6: ='NE - D'!S6 -> 32 | M6: ='NE - D'!T6 -> 8 | N6: ='NE - D'!U6 -> 7 | O6: =D6+G6+J6+M6 -> 31 | P6: =E6+H6+K6+N6 -> 26.5 | Q6: 8
A7: 3 | B7: Dubnica nad Váhom | C7: ='NE - A'!S7 -> 33.5 | D7: ='NE - A'!T7 -> 8 | E7: ='NE - A'!U7 -> 8 | F7: ='NE - B'!S7 -> 24.5 | G7: ='NE - B'!T7 -> 6 | H7: ='NE - B'!U7 -> 3 | I7: ='NE - C'!S7 -> 37 | J7: ='NE - C'!T7 -> 5 | K7: ='NE - C'!U7 -> 10 | L7: ='NE - D'!S7 -> 33 | M7: ='NE - D'!T7 -> 8 | N7: ='NE - D'!U7 -> 8 | O7: =D7+G7+J7+M7 -> 27 | P7: =E7+H7+K7+N7 -> 29 | Q7: 9
A8: 4 | B8: Kysucké Nové Mesto A | C8: ='NE - A'!S8 -> 30 | D8: ='NE - A'!T8 -> 11 | E8: ='NE - A'!U8 -> 6 | F8: ='NE - B'!S8 -> 24.5 | G8: ='NE - B'!T8 -> 4 | H8: ='NE - B'!U8 -> 4 | I8: ='NE - C'!S8 -> 24 | J8: ='NE - C'!T8 -> 12 | K8: ='NE - C'!U8 -> 3 | L8: ='NE - D'!S8 -> 22.5 | M8: ='NE - D'!T8 -> 13 | N8: ='NE - D'!U8 -> 3 | O8: =D8+G8+J8+M8 -> 40 | P8: =E8+H8+K8+N8 -> 16 | Q8: 3
A9: 5 | B9: Levice | C9: ='NE - A'!S9 -> 19.5 | D9: ='NE - A'!T9 -> 17 | E9: ='NE - A'!U9 -> 2 | F9: ='NE - B'!S9 -> 19.5 | G9: ='NE - B'!T9 -> 7 | H9: ='NE - B'!U9 -> 2 | I9: ='NE - C'!S9 -> 20.5 | J9: ='NE - C'!T9 -> 17 | K9: ='NE - C'!U9 -> 2 | L9: ='NE - D'!S9 -> 20 | M9: ='NE - D'!T9 -> 13 | N9: ='NE - D'!U9 -> 1 | O9: =D9+G9+J9+M9 -> 54 | P9: =E9+H9+K9+N9 -> 7 | Q9: 1
A10: 6 | B10: Partizánske Prívlacový team | C10: ='NE - A'!S10 -> 15 | D10: ='NE - A'!T10 -> 22 | E10: ='NE - A'!U10 -> 1 | F10: ='NE - B'!S10 -> 39.5 | G10: ='NE - B'!T10 -> 0 | H10: ='NE - B'!U10 -> 10 | I10: ='NE - C'!S10 -> 27 | J10: ='NE - C'!T10 -> 14 | K10: ='NE - C'!U10 -> 5 | L10: ='NE - D'!S10 -> 35.5 | M10: ='NE - D'!T10 -> 8 | N10: ='NE - D'!U10 -> 9 | O10: =D10+G10+J10+M10 -> 44 | P10: =E10+H10+K10+N10 -> 25 | Q10: 6
A11: 7 | B11: Trencín A | C11: ='NE - A'!S11 -> 31.5 | D11: ='NE - A'!T11 -> 10 | E11: ='NE - A'!U11 -> 7 | F11: ='NE - B'!S11 -> 27 | G11: ='NE - B'!T11 -> 3 | H11: ='NE - B'!U11 -> 5 | I11: ='NE - C'!S11 -> 18.5 | J11: ='NE - C'!T11 -> 21 | K11: ='NE - C'!U11 -> 1 | L11: ='NE - D'!S11 -> 36.5 | M11: ='NE - D'!T11 -> 6 | N11: ='NE - D'!U11 -> 10 | O11: =D11+G11+J11+M11 -> 40 | P11: =E11+H11+K11+N11 -> 23 | Q11: 4
A12: 8 | B12: Trencín B | C12: ='NE - A'!S12 -> 24.5 | D12: ='NE - A'!T12 -> 14 | E12: ='NE - A'!U12 -> 4 | F12: ='NE - B'!S12 -> 31.5 | G12: ='NE - B'!T12 -> 2 | H12: ='NE - B'!U12 -> 9 | I12: ='NE - C'!S12 -> 29.5 | J12: ='NE - C'!T12 -> 11 | K12: ='NE - C'!U12 -> 7 | L12: ='NE - D'!S12 -> 23 | M12: ='NE - D'!T12 -> 14 | N12: ='NE - D'!U12 -> 4 | O12: =D12+G12+J12+M12 -> 41 | P12: =E12+H12+K12+N12 -> 24 | Q12: 5
A13: 9 | B13: Trnava A | C13: ='NE - A'!S13 -> 21.5 | D13: ='NE - A'!T13 -> 18 | E13: ='NE - A'!U13 -> 3 | F13: ='NE - B'!S13 -> 19 | G13: ='NE - B'!T13 -> 6 | H13: ='NE - B'!U13 -> 1 | I13: ='NE - C'!S13 -> 25.5 | J13: ='NE - C'!T13 -> 12 | K13: ='NE - C'!U13 -> 4 | L13: ='NE - D'!S13 -> 28.5 | M13: ='NE - D'!T13 -> 10 | N13: ='NE - D'!U13 -> 6 | O13: =D13+G13+J13+M13 -> 46 | P13: =E13+H13+K13+N13 -> 14 | Q13: 2
A14: 10 | B14: Vranov nad Toplou A | C14: ='NE - A'!S14 -> 34.5 | D14: ='NE - A'!T14 -> 8 | E14: ='NE - A'!U14 -> 9 | F14: ='NE - B'!S14 -> 30.5 | G14: ='NE - B'!T14 -> 2 | H14: ='NE - B'!U14 -> 8 | I14: ='NE - C'!S14 -> 27.5 | J14: ='NE - C'!T14 -> 11 | K14: ='NE - C'!U14 -> 6 | L14: ='NE - D'!S14 -> 20.5 | M14: ='NE - D'!T14 -> 13 | N14: ='NE - D'!U14 -> 2 | O14: =D14+G14+J14+M14 -> 34 | P14: =E14+H14+K14+N14 -> 25 | Q14: 7
C16: =SUM(C5:C14) -> 275 | D16: =SUM(D5:D14) -> 124 | E16: =SUM(E5:E14) -> 55 | F16: =SUM(F5:F14) -> 275 | G16: =SUM(G5:G14) -> 36 | H16: =SUM(H5:H14) -> 55 | I16: =SUM(I5:I14) -> 275 | J16: =SUM(J5:J14) -> 119 | ... Q16: =SUM(Q5:Q14) -> 55

Sheet CELKOM 3. dvojkolo
B1: 1. liga LRU Prívlač - CELKOM - 3. dvojkolo
A3: Porad. číslo | B3: Družstvo | C3: Sobota | F3: Nedela | I3: Spolu So+Ne | L3: Konečné poradie
C4: body | D4: umiest. | E4: por. | F4: body | G4: umiest. | H4: por. | I4: body | J4: umiest. | K4: por.
A5: 1 | B5: Banská Bystrica A | C5: ='SO spolu'!O5 -> 60 | D5: ='SO spolu'!P5 -> 29 | E5: ='SO spolu'!Q5 -> 10 | F5: ='NE SPOLU'!O5 -> 27 | G5: ='NE SPOLU'!P5 -> 30.5 | H5: ='NE SPOLU'!Q5 -> 10 | I5: =C5+F5 -> 87 | J5: =D5+G5 -> 59.5 | K5: =E5+H5 -> 20 | L5: 10
A6: 2 | B6: Bardejov | C6: ='SO spolu'!O6 -> 63 | D6: ='SO spolu'!P6 -> 28.5 | E6: ='SO spolu'!Q6 -> 9 | F6: ='NE SPOLU'!O6 -> 31 | G6: ='NE SPOLU'!P6 -> 26.5 | H6: ='NE SPOLU'!Q6 -> 8 | I6: =C6+F6 -> 94 | J6: =D6+G6 -> 55 | K6: =E6+H6 -> 17 | L6: 9
A7: 3 | B7: Dubnica nad Váhom | C7: ='SO spolu'!O7 -> 89 | D7: ='SO spolu'!P7 -> 20 | E7: ='SO spolu'!Q7 -> 3 | F7: ='NE SPOLU'!O7 -> 27 | G7: ='NE SPOLU'!P7 -> 29 | H7: ='NE SPOLU'!Q7 -> 9 | I7: =C7+F7 -> 116 | J7: =D7+G7 -> 49 | K7: =E7+H7 -> 12 | L7: 7
A8: 4 | B8: Kysucké Nové Mesto A | C8: ='SO spolu'!O8 -> 82 | D8: ='SO spolu'!P8 -> 27 | E8: ='SO spolu'!Q8 -> 7 | F8: ='NE SPOLU'!O8 -> 40 | G8: ='NE SPOLU'!P8 -> 16 | H8: ='NE SPOLU'!Q8 -> 3 | I8: =C8+F8 -> 122 | J8: =D8+G8 -> 43 | K8: =E8+H8 -> 10 | L8: 4
A9: 5 | B9: Levice | C9: ='SO spolu'!O9 -> 119 | D9: ='SO spolu'!P9 -> 9 | E9: ='SO spolu'!Q9 -> 2 | F9: ='NE SPOLU'!O9 -> 54 | G9: ='NE SPOLU'!P9 -> 7 | H9: ='NE SPOLU'!Q9 -> 1 | I9: =C9+F9 -> 173 | J9: =D9+G9 -> 16 | K9: =E9+H9 -> 3 | L9: 1
A10: 6 | B10: Partizánske Prívlacový team | C10: ='SO spolu'!O10 -> 130 | D10: ='SO spolu'!P10 -> 8 | E10: ='SO spolu'!Q10 -> 1 | F10: ='NE SPOLU'!O10 -> 44 | G10: ='NE SPOLU'!P10 -> 25 | H10: ='NE SPOLU'!Q10 -> 6 | I10: =C10+F10 -> 174 | J10: =D10+G10 -> 33 | K10: =E10+H10 -> 7 | L10: 2
A11: 7 | B11: Trencín A | C11: ='SO spolu'!O11 -> 87 | D11: ='SO spolu'!P11 -> 21 | E11: ='SO spolu'!Q11 -> 4 | F11: ='NE SPOLU'!O11 -> 40 | G11: ='NE SPOLU'!P11 -> 23 | H11: ='NE SPOLU'!Q11 -> 4 | I11: =C11+F11 -> 127 | J11: =D11+G11 -> 44 | K11: =E11+H11 -> 8 | L11: 5
A12: 8 | B12: Trencín B | C12: ='SO spolu'!O12 -> 86 | D12: ='SO spolu'!P12 -> 23.5 | E12: ='SO spolu'!Q12 -> 5 | F12: ='NE SPOLU'!O12 -> 41 | G12: ='NE SPOLU'!P12 -> 24 | H12: ='NE SPOLU'!Q12 -> 5 | I12: =C12+F12 -> 127 | J12: =D12+G12 -> 47.5 | K12: =E12+H12 -> 10 | L12: 6
A13: 9 | B13: Trnava A | C13: ='SO spolu'!O13 -> 74 | D13: ='SO spolu'!P13 -> 26 | E13: ='SO spolu'!Q13 -> 6 | F13: ='NE SPOLU'!O13 -> 46 | G13: ='NE SPOLU'!P13 -> 14 | H13: ='NE SPOLU'!Q13 -> 2 | I13: =C13+F13 -> 120 | J13: =D13+G13 -> 40 | K13: =E13+H13 -> 8 | L13: 3
A14: 10 | B14: Vranov nad Toplou A | C14: ='SO spolu'!O14 -> 84 | D14: ='SO spolu'!P14 -> 28 | E14: ='SO spolu'!Q14 -> 8 | F14: ='NE SPOLU'!O14 -> 34 | G14: ='NE SPOLU'!P14 -> 25 | H14: ='NE SPOLU'!Q14 -> 7 | I14: =C14+F14 -> 118 | J14: =D14+G14 -> 53 | K14: =E14+H14 -> 15 | L14: 8
A16: Vranov n/T. 22.6.2025 | D16: =SUM(D5:D15) -> 220 | E16: =SUM(E5:E15) -> 55 | G16: =SUM(G5:G15) -> 220 | H16: =SUM(H5:H15) -> 55 | J16: =SUM(J5:J15) -> 440 | K16: =SUM(K5:K15) -> 110 | L16: =SUM(L5:L15) -> 55
A18: Riaditeľ: Tomáš Jenčo | C18: Garant: Richard Hatala | I18: Hl.rozhodca: Peter Brcko

Sheet Celkovo_1. liga 2026
B2: LRU - Prívlač 1. liga 2026 CELKOM
B3: p.č. | C3: MsO SRZ | D3: 1+2.kolo Púchov | G3: 3+4.kolo Stud.potok | J3: 5+6.kolo Kladzany | M3: súčet umiestnení | N3: Body spolu | O3: Ryby spolu | P3: por. | Q3: A | S3: C
D4: Umiestnenie | E4: počet rýb | F4: počet bodov | G4: Umiestnenie | H4: počet rýb | I4: počet bodov | J4: Umiestnenie | K4: počet rýb | L4: počet bodov
B5: 1. | C5: Banská Bystrica A | D5: 61 | E5: 185 | F5: 185 | G5: 55 | H5: 177 | I5: 177 | J5: ='CELKOM 3. dvojkolo'!J5 -> 59.5 | K5: ='CELKOM 3. dvojkolo'!I5 -> 87 | L5: ='CELKOM 3. dvojkolo'!I5 -> 87 | M5: =SUM(D5,G5,J5,) -> 175.5 | N5: =F5+I5+L5 -> 449 | O5: =E5+H5+K5 -> 449 | P5: 9 | Q5: 44 | S5: 18
B6: 2. | C6: Bardejov | D6: 50.5 | E6: 185 | F6: 185 | G6: 42 | H6: 227 | I6: 227 | J6: ='CELKOM 3. dvojkolo'!J6 -> 55 | K6: ='CELKOM 3. dvojkolo'!I6 -> 94 | L6: ='CELKOM 3. dvojkolo'!I6 -> 94 | M6: =SUM(D6,G6,J6,) -> 147.5 | N6: =F6+I6+L6 -> 506 | O6: =E6+H6+K6 -> 506 | P6: 8 | Q6: 30 | S6: 23
B7: 3. | C7: Dubnica nad Váhom | D7: 29 | E7: 251 | F7: 251 | G7: 41 | H7: 209 | I7: 209 | J7: ='CELKOM 3. dvojkolo'!J7 -> 49 | K7: ='CELKOM 3. dvojkolo'!I7 -> 116 | L7: ='CELKOM 3. dvojkolo'!I7 -> 116 | M7: =SUM(D7,G7,J7,) -> 119 | N7: =F7+I7+L7 -> 576 | O7: =E7+H7+K7 -> 576 | P7: 3 | Q7: 23 | S7: 23
B8: 4. | C8: Kysucké Nové Mesto A | D8: 35 | E8: 222 | F8: 222 | G8: 48 | H8: 182 | I8: 182 | J8: ='CELKOM 3. dvojkolo'!J8 -> 43 | K8: ='CELKOM 3. dvojkolo'!I8 -> 122 | L8: ='CELKOM 3. dvojkolo'!I8 -> 122 | M8: =SUM(D8,G8,J8,) -> 126 | N8: =F8+I8+L8 -> 526 | O8: =E8+H8+K8 -> 526 | P8: 5 | Q8: 26 | S8: 23
B9: 5. | C9: Levice | D9: 19 | E9: 301 | F9: 301 | G9: 19 | H9: 339 | I9: 339 | J9: ='CELKOM 3. dvojkolo'!J9 -> 16 | K9: ='CELKOM 3. dvojkolo'!I9 -> 173 | L9: ='CELKOM 3. dvojkolo'!I9 -> 173 | M9: =SUM(D9,G9,J9,) -> 54 | N9: =F9+I9+L9 -> 813 | O9: =E9+H9+K9 -> 813 | P9: 1 | Q9: 24 | S9: 12
B10: 6. | C10: Partizánske Prívlacový team | D10: 46 | E10: 223 | F10: 223 | G10: 32 | H10: 236 | I10: 236 | J10: ='CELKOM 3. dvojkolo'!J10 -> 33 | K10: ='CELKOM 3. dvojkolo'!I10 -> 174 | L10: ='CELKOM 3. dvojkolo'!I10 -> 174 | M10: =SUM(D10,G10,J10,) -> 111 | N10: =F10+I10+L10 -> 633 | O10: =E10+H10+K10 -> 633 | P10: 2 | Q10: 27 | S10: 47
B11: 7. | C11: Trencín A | D11: 42.5 | E11: 225 | F11: 225 | G11: 38 | H11: 214 | I11: 214 | J11: ='CELKOM 3. dvojkolo'!J11 -> 44 | K11: ='CELKOM 3. dvojkolo'!I11 -> 127 | L11: ='CELKOM 3. dvojkolo'!I11 -> 127 | M11: =SUM(D11,G11,J11,) -> 124.5 | N11: =F11+I11+L11 -> 566 | O11: =E11+H11+K11 -> 566 | P11: 4 | Q11: 7 | S11: 18
B12: 8. | C12: Trencín B | D12: 37 | E12: 241 | F12: 241 | G12: 58 | H12: 161 | I12: 161 | J12: ='CELKOM 3. dvojkolo'!J12 -> 47.5 | K12: ='CELKOM 3. dvojkolo'!I12 -> 127 | L12: ='CELKOM 3. dvojkolo'!I12 -> 127 | M12: =SUM(D12,G12,J12,) -> 142.5 | N12: =F12+I12+L12 -> 529 | O12: =E12+H12+K12 -> 529 | P12: 6 | Q12: 11 | S12: 23
B13: 9. | C13: Trnava A | D13: 56 | E13: 176 | F13: 176 | G13: 48 | H13: 209 | I13: 209 | J13: ='CELKOM 3. dvojkolo'!J13 -> 40 | K13: ='CELKOM 3. dvojkolo'!I13 -> 120 | L13: ='CELKOM 3. dvojkolo'!I13 -> 120 | M13: =SUM(D13,G13,J13,) -> 144 | N13: =F13+I13+L13 -> 505 | O13: =E13+H13+K13 -> 505 | P13: 7 | Q13: 32 | S13: 30
B14: 10. | C14: Vranov nad Toplou A | D14: 64 | E14: 127 | F14: 127 | G14: 60 | H14: 171 | I14: 171 | J14: ='CELKOM 3. dvojkolo'!J14 -> 53 | K14: ='CELKOM 3. dvojkolo'!I14 -> 118 | L14: ='CELKOM 3. dvojkolo'!I14 -> 118 | M14: =SUM(D14,G14,J14,) -> 177 | N14: =F14+I14+L14 -> 416 | O14: =E14+H14+K14 -> 416 | P14: 10 | Q14: 18 | S14: 19
B15: 11. | L15: ='[2]SO+NE spolu '!N15 -> -32 | Q15: 39 | S15: 18
B16: 12. | L16: ='[2]SO+NE spolu '!N16 -> -32 | Q16: 12 | S16: 28
D17: =SUM(D5:D16) -> 440 | E17: =SUM(E5:E16) -> 2136 | G17: =SUM(G5:G16) -> 441 | H17: =SUM(H5:H16) -> 2125 | J17: =SUM(J5:J16) -> 440 | K17: =SUM(K5:K14) -> 1258 | L17: =SUM(L5:L14) -> 1258 | M17: =SUM(M5:M16) -> 1321 | O17: =SUM(O5:O16) -> 5519
C19: Vranov n/T. 25.10.2026
C21: Riaditeľ: Tomáš Jenčo | E21: Garant: Richard Hatala | I21: Hl.rozhodca: Peter Brcko
